BEGIN:VCALENDAR
VERSION:2.0
PRODID:-//Tukios.com/
BEGIN:VEVENT
UID:b22b4efa-ef16-43ff-ab43-dedcc2718053@www.doddreedfh.com
DTSTAMP:20260424T014258Z
DTSTART:20260425T170000Z
DTEND:20260425T180000Z
SUMMARY:Celebration of Life
DESCRIPTION:
URL:https://www.doddreedfh.com/obituaries/micheal-gregory
LOCATION:Dodd & Reed Funeral Home 155 Mc Graw Ave  Webster Springs WV 
	26288
GEO:38.4761519;-80.4121781
END:VEVENT
END:VCALENDAR