BEGIN:VCALENDAR
VERSION:2.0
PRODID:-//Tukios.com/
BEGIN:VEVENT
UID:6dbe0d28-d73e-459c-a776-e0dc9b2ad0ec@www.doddreedfh.com
DTSTAMP:20260424T014258Z
DTSTART:20260425T150000Z
DTEND:20260425T170000Z
SUMMARY:Visitation
DESCRIPTION:
URL:https://www.doddreedfh.com/obituaries/micheal-gregory
LOCATION:Dodd & Reed Funeral Home 155 Mc Graw Ave  Webster Springs WV 
	26288
GEO:38.4761519;-80.4121781
END:VEVENT
END:VCALENDAR